BEGIN:VCALENDAR
VERSION:2.0
PRODID:-//ChamberMaster//Event Calendar 2.0//EN
METHOD:PUBLISH
X-PUBLISHED-TTL:P1H
REFRESH-INTERVAL:P1H
CALSCALE:GREGORIAN
BEGIN:VTIMEZONE
TZID:America/New_York
BEGIN:DAYLIGHT
RRULE:FREQ=YEARLY;BYMONTH=3;BYDAY=2SU
DTSTART:20070101T000000
TZOFFSETFROM:-0500
TZOFFSETTO:-0400
TZNAME:Eastern Daylight Time
END:DAYLIGHT
BEGIN:STANDARD
RRULE:FREQ=YEARLY;BYMONTH=11;BYDAY=1SU
DTSTART:20070101T000000
TZOFFSETFROM:-0400
TZOFFSETTO:-0500
TZNAME:Eastern Standard Time
END:STANDARD
END:VTIMEZONE
BEGIN:VEVENT
DTSTART;TZID=America/New_York:20220616T163000
DTEND;TZID=America/New_York:20220616T183000
X-MICROSOFT-CDO-ALLDAYEVENT:FALSE
SUMMARY:Chamber Pride Happy Hour — Tampa Edition
DESCRIPTION:Join the Tampa Bay Area Chambers for an evening of networking\, and celebration of Pride with local businesses professionals at the Centre Club of Tampa! In partnership with the North Tampa Chamber\, South Tampa Chamber\, Tampa Bay LGBT Chamber\, Plant City Chamber\, & Riverview Chamber. This event is sponsored by the Centre Club of Tampa. Interested in providing door prizes\, contact the Tampa Bay LGBT Chamber at info@tampabaychamber.org or 813-687-4993
X-ALT-DESC;FMTTYPE=text/html:<!DOCTYPE html><html><head><title></title></head><body aria-disabled="false"><p>Join the Tampa Bay Area Chambers for an evening of networking\, and celebration of Pride with local businesses professionals at the Centre Club of Tampa! In partnership with the North Tampa Chamber\, South Tampa Chamber\, Tampa Bay LGBT Chamber\, Plant City Chamber\, &amp\; Riverview Chamber. This event is sponsored by the Centre Club of Tampa.&nbsp\;</p><p>Interested in providing door prizes\, contact the Tampa Bay LGBT Chamber at info@tampabaychamber.org or 813-687-4993</p></body></html>
LOCATION:123 South West Shore Blvd 8th floor Tampa FL 33609
UID:e.1924.634992
SEQUENCE:3
DTSTAMP:20260423T114203Z
URL:https://members.tampabaylgbtchamber.org/event-calendar/Details/chamber-pride-happy-hour-tampa-edition-660897?sourceTypeId=Hub
END:VEVENT
END:VCALENDAR
